BEGIN:VCALENDAR
VERSION:2.0
PRODID:icalendar-ruby
CALSCALE:GREGORIAN
METHOD:PUBLISH
BEGIN:VEVENT
DTSTAMP:20260421T202803Z
UID:12-1512108@beachbeacon.org
DTSTART:20260729T220000Z
DTEND:20260730T000000Z
CLASS:PUBLIC
CREATED:20260421T162111
DESCRIPTION:Join us for our Wednesday night program for youth and kids. Our
  program spans from toddlers that are potty trained all the way up to High
  School Seniors. Make plans to join us!
LAST-MODIFIED:20260421T162111
LOCATION:On Campus
SUMMARY:Awana/Youth
URL;VALUE=URI:https://beachbeacon.org/events/awana-youth/2026-07-29
ATTACH;FILENAME=awana.jpg;FMTTYPE=image/jpeg:https://dq5pwpg1q8ru0.cloudfro
 nt.net/2025/09/12/18/26/55/b236e3c1-56bc-44f9-8605-a7fd2d0a6b06/awana.jpg
END:VEVENT
END:VCALENDAR
